BEGIN:VCALENDAR
VERSION:2.0
PRODID:-//https://mail.cfaecentro-oeste.pt///NONSGML kigkonsult.se iCalcreator 2.10.15//
METHOD:PUBLISH
BEGIN:VEVENT
UID:20260424T152544UTC-9455ZVEwhv@https://mail.cfaecentro-oeste.pt/
DTSTAMP:20260424T152544Z
DESCRIPTION:\n&nbsp\;\n&nbsp\;\n{slider=Lista de Formandos Inscritos|blue}
 \n{module Formandos Inscritos}\n{slider=Lista de Formandos N&atilde\;o Adm
 itidos|red}\n{module MOD_RSEVENTSPRO_Naoadmitidos}\n{slider=Lista Formando
 s Admitidos|green}\n{module MOD_RSEVENTSPRO_admitidos}\n{/sliders} https:/
 /mail.cfaecentro-oeste.pt/index.php/pt/component/rseventspro/acontecimento
 /358-31nf2015-gestao-de-conflitos?Itemid=1
DTSTART:20150903T083000Z
DTEND:20160530T170000Z
LOCATION:Agrupamento de Escolas do Cadaval (Rua de Aristides de Sousa Mende
 s \, 2550-007 \, Cadaval \, Portugal)
SUMMARY:31NF2015 - Gestão de Conflitos
URL:https://mail.cfaecentro-oeste.pt/index.php/pt/component/rseventspro/aco
 ntecimento/358-31nf2015-gestao-de-conflitos?Itemid=1
END:VEVENT
END:VCALENDAR
