BEGIN:VCALENDAR
VERSION:2.0
PRODID:-//https://mail.cfaecentro-oeste.pt///NONSGML kigkonsult.se iCalcreator 2.10.15//
METHOD:PUBLISH
BEGIN:VEVENT
UID:20260424T151850UTC-7130XKPUBv@https://mail.cfaecentro-oeste.pt/
DTSTAMP:20260424T151850Z
DESCRIPTION:{slider=Lista de Formandos Inscritos|blue}\n{module Formandos I
 nscritos}\n&nbsp\;{slider=Lista de Formandos N&atilde\;o Admitidos|red}\n{
 module MOD_RSEVENTSPRO_Naoadmitidos}\n&nbsp\;{slider=Lista Formandos Admit
 idos|green}\n{module MOD_RSEVENTSPRO_admitidos}\n{/sliders} https://mail.c
 faecentro-oeste.pt/index.php/pt/component/rseventspro/acontecimento/424-19
 nf2017-o-caminho-faz-se-caminhando-pedagogia-e-didatica-da-memoria?Itemid=
 1
DTSTART:20171116T090000Z
DTEND:20171116T180000Z
LOCATION:Auditório da Casa Municipal da Cultura de Seia (Avenida Luís Vaz d
 e Camões\, 6270-484 Seia\, Portugal)
SUMMARY:19NF2017 - O Caminho faz-se caminhando...Pedagogia e Didática da Me
 mória
URL:https://mail.cfaecentro-oeste.pt/index.php/pt/component/rseventspro/aco
 ntecimento/424-19nf2017-o-caminho-faz-se-caminhando-pedagogia-e-didatica-d
 a-memoria?Itemid=1
END:VEVENT
END:VCALENDAR
