BEGIN:VCALENDAR
VERSION:2.0
PRODID:-//https://mail.cfaecentro-oeste.pt///NONSGML kigkonsult.se iCalcreator 2.10.15//
METHOD:PUBLISH
BEGIN:VEVENT
UID:20260424T180801UTC-95707z3Wop@https://mail.cfaecentro-oeste.pt/
DTSTAMP:20260424T180801Z
DESCRIPTION:&nbsp\;\n\n&nbsp\;\n&nbsp\;\n\n{slider=Lista de Formandos Inscr
 itos|blue}\n{module Formandos Inscritos}\n&nbsp\;{slider=Lista de Formando
 s N&atilde\;o Admitidos|red}\n{module MOD_RSEVENTSPRO_Naoadmitidos}\n&nbsp
 \;{slider=Lista Formandos Admitidos|green}\n{module MOD_RSEVENTSPRO_admiti
 dos}\n{/sliders} https://mail.cfaecentro-oeste.pt/index.php/pt/component/r
 seventspro/acontecimento/491-05nf2018-tecnicas-base-da-ginastica-na-escola
 ?Itemid=412015
DTSTART:20180518T170000Z
DTEND:20180518T210000Z
LOCATION:Escola Secundária Rafael Bordalo Pinheiro (Rua César Machado\, 250
 0 Caldas da Rainha\, Portugal)
SUMMARY:05NF2018 - Técnicas Base Da Ginástica Na Escola
URL:https://mail.cfaecentro-oeste.pt/index.php/pt/component/rseventspro/aco
 ntecimento/491-05nf2018-tecnicas-base-da-ginastica-na-escola?Itemid=412015
END:VEVENT
END:VCALENDAR
