BEGIN:VCALENDAR
VERSION:2.0
PRODID:-//https://mail.cfaecentro-oeste.pt///NONSGML kigkonsult.se iCalcreator 2.10.15//
METHOD:PUBLISH
BEGIN:VEVENT
UID:20260424T165853UTC-9069PjBsc8@https://mail.cfaecentro-oeste.pt/
DTSTAMP:20260424T165853Z
DESCRIPTION: https://mail.cfaecentro-oeste.pt/index.php/pt/component/rseven
 tspro/acontecimento/508-06nf2019-arte-e-educacao?Itemid=402015
DTSTART:20190508T160000Z
DTEND:20190508T190000Z
LOCATION:Escola Básica Integrada Santo Onofre (Rua Francisco Franco 28A\, 2
 500 Caldas da Rainha\, Portugal)
SUMMARY:06NF2019 - Arte e Educação
URL:https://mail.cfaecentro-oeste.pt/index.php/pt/component/rseventspro/aco
 ntecimento/508-06nf2019-arte-e-educacao?Itemid=402015
END:VEVENT
END:VCALENDAR
