BEGIN:VCALENDAR
VERSION:2.0
PRODID:-//https://mail.cfaecentro-oeste.pt///NONSGML kigkonsult.se iCalcreator 2.10.15//
METHOD:PUBLISH
BEGIN:VEVENT
UID:20260424T105328UTC-8897mFRfZH@https://mail.cfaecentro-oeste.pt/
DTSTAMP:20260424T105328Z
DESCRIPTION:Mais informações na plataforma de formação do CFAE\, em&nbsp\;h
 ttps://centro-oeste.cfae.pt/&nbsp\;-&nbsp\;&nbsp\;Plataforma de Formação h
 ttps://mail.cfaecentro-oeste.pt/index.php/pt/component/rseventspro/acontec
 imento/721-170-02-criacao-de-ambientes-de-aprendizagem-inclusivos-e-inovad
 ores?Itemid=36
DTSTART:20230920T170000Z
DTEND:20230920T203000Z
LOCATION:Agrupamento de Escolas da Atouguia da Baleia (R Vítor Baltazar  \,
  2525-079 \, Peniche \, Portugal)
SUMMARY:170-02 - Criação de ambientes de aprendizagem inclusivos e inovador
 es
URL:https://mail.cfaecentro-oeste.pt/index.php/pt/component/rseventspro/aco
 ntecimento/721-170-02-criacao-de-ambientes-de-aprendizagem-inclusivos-e-in
 ovadores?Itemid=36
END:VEVENT
END:VCALENDAR
