BEGIN:VCALENDAR
VERSION:2.0
PRODID:-//https://mail.cfaecentro-oeste.pt///NONSGML kigkonsult.se iCalcreator 2.10.15//
METHOD:PUBLISH
BEGIN:VEVENT
UID:20260424T120809UTC-0267b8MPpm@https://mail.cfaecentro-oeste.pt/
DTSTAMP:20260424T120809Z
DESCRIPTION:Mais informações na plataforma de formação do CFAE\, em&nbsp\;h
 ttps://centro-oeste.cfae.pt/&nbsp\;-&nbsp\;&nbsp\;Plataforma de Formação h
 ttps://mail.cfaecentro-oeste.pt/index.php/pt/component/rseventspro/acontec
 imento/722-175-07-praticas-pedagogicas-inclusivas-em-sala-de-aula?Itemid=3
 6
DTSTART:20230921T170000Z
DTEND:20230921T203000Z
LOCATION:E-learning (e-learning)
SUMMARY:175-07 - PRÁTICAS PEDAGÓGICAS INCLUSIVAS EM SALA DE AULA
URL:https://mail.cfaecentro-oeste.pt/index.php/pt/component/rseventspro/aco
 ntecimento/722-175-07-praticas-pedagogicas-inclusivas-em-sala-de-aula?Item
 id=36
END:VEVENT
END:VCALENDAR
