BEGIN:VCALENDAR
VERSION:2.0
PRODID:-//https://mail.cfaecentro-oeste.pt///NONSGML kigkonsult.se iCalcreator 2.10.15//
METHOD:PUBLISH
BEGIN:VEVENT
UID:20260424T133654UTC-3949MrPU2I@https://mail.cfaecentro-oeste.pt/
DTSTAMP:20260424T133654Z
DESCRIPTION:&nbsp\;Mais informações na plataforma de formação do CFAE\, em&
 nbsp\;https://centro-oeste.cfae.pt/&nbsp\;-&nbsp\;&nbsp\;Plataforma de For
 mação\n\n\n\n\n\n\n https://mail.cfaecentro-oeste.pt/index.php/pt/componen
 t/rseventspro/acontecimento/731-178-03-para-a-melhoria-das-praticas-de-ava
 liacao-pedagogica-desenvolvimento-e-concretizacao-dos-projetos-de-interven
 cao?Itemid=36
DTSTART:20230928T170000Z
DTEND:20230928T203000Z
LOCATION:Agrupamento de Escolas Fernão do Pó (Av. Dr. Joaquim de Albuquerqu
 e 45\, 2540 Bombarral\, Portugal)
SUMMARY:178-03 - PARA A MELHORIA DAS PRÁTICAS DE AVALIAÇÃO PEDAGÓGICA: DESE
 NVOLVIMENTO E CONCRETIZAÇÃO DOS PROJETOS DE INTERVENÇÃO
URL:https://mail.cfaecentro-oeste.pt/index.php/pt/component/rseventspro/aco
 ntecimento/731-178-03-para-a-melhoria-das-praticas-de-avaliacao-pedagogica
 -desenvolvimento-e-concretizacao-dos-projetos-de-intervencao?Itemid=36
END:VEVENT
END:VCALENDAR
