BEGIN:VCALENDAR
VERSION:2.0
PRODID:-//https://mail.cfaecentro-oeste.pt///NONSGML kigkonsult.se iCalcreator 2.10.15//
METHOD:PUBLISH
BEGIN:VEVENT
UID:20260424T105328UTC-3857bdXG05@https://mail.cfaecentro-oeste.pt/
DTSTAMP:20260424T105328Z
DESCRIPTION:&nbsp\;Mais informações na plataforma de formação do CFAE\, em&
 nbsp\;https://centro-oeste.cfae.pt/&nbsp\;-&nbsp\;&nbsp\;Plataforma de For
 mação\n\n\n\n\n\n\n https://mail.cfaecentro-oeste.pt/index.php/pt/componen
 t/rseventspro/acontecimento/735-220-01-aprendizagens-essenciais-de-matemat
 ica-a-para-o-ensino-secundario?Itemid=36
DTSTART:20231003T173000Z
DTEND:20231003T203000Z
LOCATION:Escola Secundária Rafael Bordalo Pinheiro (Rua César Machado\, 250
 0 Caldas da Rainha\, Portugal)
SUMMARY:220-01 - APRENDIZAGENS ESSENCIAIS DE MATEMÁTICA A PARA O ENSINO SEC
 UNDÁRIO
URL:https://mail.cfaecentro-oeste.pt/index.php/pt/component/rseventspro/aco
 ntecimento/735-220-01-aprendizagens-essenciais-de-matematica-a-para-o-ensi
 no-secundario?Itemid=36
END:VEVENT
END:VCALENDAR
