BEGIN:VCALENDAR
VERSION:2.0
PRODID:-//https://mail.cfaecentro-oeste.pt///NONSGML kigkonsult.se iCalcreator 2.10.15//
METHOD:PUBLISH
BEGIN:VEVENT
UID:20260423T232220UTC-4698JUk7cd@https://mail.cfaecentro-oeste.pt/
DTSTAMP:20260423T232220Z
DESCRIPTION:&nbsp\;\n&nbsp\;\n&nbsp\;\n{slider=Lista de Formandos Inscritos
 |blue}\n{module Formandos Inscritos}\n&nbsp\;{slider=Lista de Formandos N&
 atilde\;o Admitidos|red}\n{module MOD_RSEVENTSPRO_Naoadmitidos}\n&nbsp\;{s
 lider=Lista Formandos Admitidos|green}\n{module MOD_RSEVENTSPRO_admitidos}
 \n{/sliders} https://mail.cfaecentro-oeste.pt/index.php/pt/contactos/forma
 cao/categorias/acontecimento/488-032a2018-cidadania-ativa-para-uma-educaca
 o-inclusiva-dos-migrantes-e-dos-refugiados
DTSTART:20180505T080000Z
DTEND:20180505T120000Z
LOCATION:Fundação Calouste Gulbenkian (Av. de Berna\, 45A  \, 1067-001 \, L
 isboa \, Lisboa \, Portugal)
SUMMARY:032A2018 - Cidadania ativa para uma educação inclusiva dos Migrante
 s e dos Refugiados
URL:https://mail.cfaecentro-oeste.pt/index.php/pt/contactos/formacao/catego
 rias/acontecimento/488-032a2018-cidadania-ativa-para-uma-educacao-inclusiv
 a-dos-migrantes-e-dos-refugiados
END:VEVENT
END:VCALENDAR
