BEGIN:VCALENDAR
VERSION:2.0
PRODID:-//https://mail.cfaecentro-oeste.pt///NONSGML kigkonsult.se iCalcreator 2.10.15//
METHOD:PUBLISH
BEGIN:VEVENT
UID:20260424T003721UTC-1520guA1sw@https://mail.cfaecentro-oeste.pt/
DTSTAMP:20260424T003721Z
DESCRIPTION:Mais informações na plataforma de formação do CFAE\, em&nbsp\;h
 ttps://centro-oeste.cfae.pt/&nbsp\;-&nbsp\;&nbsp\;Plataforma de Formação h
 ttps://mail.cfaecentro-oeste.pt/index.php/pt/contactos/formacao/acontecime
 nto/719-175-06-praticas-pedagogicas-inclusivas-em-sala-de-aula
DTSTART:20230921T170000Z
DTEND:20230921T203000Z
LOCATION:E-learning (e-learning)
SUMMARY:175-06 - PRÁTICAS PEDAGÓGICAS INCLUSIVAS EM SALA DE AULA
URL:https://mail.cfaecentro-oeste.pt/index.php/pt/contactos/formacao/aconte
 cimento/719-175-06-praticas-pedagogicas-inclusivas-em-sala-de-aula
END:VEVENT
END:VCALENDAR
